Workbook
Name Anteil_fossil_erzeugt: 'E1_Données de projet'!$D$32
Name Anteil_Invest_E1: 'E1_Données de projet'!$F$83
Name Anteil_InvestTotal_E1: 'E1_Données de projet'!$I$83
Name Anteil_InvestTotal_E2: 'E1_Données de projet'!$I$84
Name Anteil_InvestTotal_E3: 'E1_Données de projet'!$I$85
Name Anteil_InvestTotal_E4: 'E1_Données de projet'!$I$86
Name Anteil_InvestTotal_E5: 'E1_Données de projet'!$I$87
Name BetriebskostenTotal: B1_Calculs!$F$15
Name BrennstoffkostenBiomasse: B1_Calculs!$F$16
Name Eigenverbrauch_HE: 'E1_Données de projet'!$D$133
Name Eigenverbrauch_WP: 'E1_Données de projet'!$D$132
Name Eing_Abnehmerart1: 'E2_Prix de la chaleur'!$D$14
Name Eing_Abnehmerart2: 'E2_Prix de la chaleur'!$D$20
Name Eing_Abnehmerart3: 'E2_Prix de la chaleur'!$D$26
Name Eing_Abnehmerart4: 'E2_Prix de la chaleur'!$D$32
Name Eing_Abnehmerart5: 'E2_Prix de la chaleur'!$D$38
Name Eing_Abnehmerart6: 'E2_Prix de la chaleur'!$D$44
Name Eing_AbnW: 'E1_Données de projet'!$D$20
Name Eing_Administration: 'E1_Données de projet'!$D$55
Name Eing_allg_Teuerung: 'E1_Données de projet'!$D$61
Name Eing_Anteil_AWN: 'E1_Données de projet'!$D$31
Name Eing_Anteil_Biomasse: 'E1_Données de projet'!$D$26
Name Eing_Anteil_Invest_E2: 'E1_Données de projet'!$F$84
Name Eing_Anteil_Invest_E3: 'E1_Données de projet'!$F$85
Name Eing_Anteil_Invest_E4: 'E1_Données de projet'!$F$86
Name Eing_Anteil_Invest_E5: 'E1_Données de projet'!$F$87
Name Eing_Anteil_Kondensation: 'E1_Données de projet'!$D$27
Name Eing_Anteil_WKK: 'E1_Données de projet'!$D$28
Name Eing_Anteil_WP: 'E1_Données de projet'!$D$29
Name Eing_Anteil_Zusatz: 'E1_Données de projet'!$D$30
Name Eing_AnteilEigen_Hilfsenergie: 'E1_Données de projet'!$D$40
Name Eing_AnteilEigen_WP: 'E1_Données de projet'!$D$38
Name Eing_Arbeitspreis1: 'E2_Prix de la chaleur'!$G$16
Name Eing_Arbeitspreis2: 'E2_Prix de la chaleur'!$G$22
Name Eing_Arbeitspreis3: 'E2_Prix de la chaleur'!$G$28
Name Eing_Arbeitspreis4: 'E2_Prix de la chaleur'!$G$34
Name Eing_Arbeitspreis5: 'E2_Prix de la chaleur'!$G$40
Name Eing_Arbeitspreis6: 'E2_Prix de la chaleur'!$G$46
Name Eing_Beginnjahr: 'E1_Données de projet'!$D$22
Name Eing_Betriebskosten: 'E1_Données de projet'!$D$56
Name Eing_Brennstoffpreis_WKK: 'E1_Données de projet'!$D$45
Name Eing_Eigenkapital: 'E1_Données de projet'!$D$89
Name Eing_Erstauszahlung_jährlFörderung_1: 'E1_Données de projet'!$D$117
Name Eing_Erstauszahlung_jährlFörderung_2: 'E1_Données de projet'!$D$120
Name Eing_Förderung_wiederholend_Laufzeit: 'E1_Données de projet'!$D$82
Name Eing_Förderung_wiederholend_Laufzeit_1: 'E1_Données de projet'!$D$116
Name Eing_Förderung_wiederholend_Laufzeit_2: 'E1_Données de projet'!$D$119
Name Eing_Invest_AWN: 'E1_Données de projet'!$D$74
Name Eing_Invest_Grundstück: 'E1_Données de projet'!$D$68
Name Eing_Invest_Hausstationen: 'E1_Données de projet'!$D$79
Name Eing_Invest_HolzAnlage: 'E1_Données de projet'!$D$69
Name Eing_Invest_Installationen: 'E1_Données de projet'!$D$76
Name Eing_Invest_Messung: 'E1_Données de projet'!$D$78
Name Eing_Invest_SondenGrundwasser: 'E1_Données de projet'!$D$72
Name Eing_Invest_Spitzenlast: 'E1_Données de projet'!$D$75
Name Eing_Invest_Wärmenetz: 'E1_Données de projet'!$D$77
Name Eing_Invest_WKKAnlage: 'E1_Données de projet'!$D$70
Name Eing_Invest_WPAnlage: 'E1_Données de projet'!$D$71
Name Eing_Invest_Zusatz: 'E1_Données de projet'!$D$73
Name Eing_JahrBegWLief: 'E1_Données de projet'!$D$23

Sheet I1_Explications
B1: Explications relatives à l'outil d'analyse de rentabilité de QM Chauffages au bois
B2: Version : 6.1 (Décembre 2025)
B3: Explications
B4: Généralités au sujet de cet outil : Exclusion de responsabilité Malgré tout le soin apporté à l’élaboration de cet outil Excel, ses concepteurs ne peuvent donner aucune garantie concernant les résultats obtenus et les conclusions qui en sont tirées. Les simplifications et le mode de calcul retenus peuvent entraîner certaines «erreurs». L’outil ne distingue p. ex. pas si les paiements sont effectués en début ou en fin d’année, étant donné qu’une année est considérée comme une période globale. Attention : Bien que l’outil affiche des messages d’alerte en cas de non respect de diverses limites de saisie, il n’est pas exclu que la saisie de valeurs erronées conduise à l’obtention d’un résultat final également erroné. Il appartient à l’utilisateur de l’outil d’évaluer de façon appropriée les conséquences d’un certain nombre d’hypothèses. Formules : Les onglets de ce classeur sont protégées en écriture, mais l’ensemble des formules et calculs sont néanmoins visibles. Notez bien que toute modification peut entraîner des erreurs en d’autres emplacements et, par conséquent, à des assertions erronées de l’outil. Analyse de sensibilité / calculs de simulation : En faisant varier les paramètres de saisie et en enregistrant les résultats individuels des calculs de rentabilité, il est possible d’obtenir des informations concernant l’influence des paramètres individuels sur l’évolution économique du projet. Feed-back : L’équipe de QM Chauffages au bois sera ravie de toute suggestion d’amélioration ou idée concernant cet outil, que vous lui transmettrez à l’adresse info@qmholzheizwerke.ch
B5: Remerciements Le présent outil a été élaboré sur mandat de SuisseEnergie. La suite du développement a été rendue possible grâce à Energie-bois Suisse et à la communauté de travail QM Chauffages au bois.
B6: Onglets : Le fichier est divisé en plusieurs onglets Dénomination : La dénomination des onglets distingue également leur principale fonction : I = Information (onglet comportant des informations et des explications sur l’utilisation du fichier) E = Onglet de données (saisie de données requises pour les calculs) B = Calculs A = Onglet de sortie (présentation de résultats sélectionnés en vue de les imprimer ou d’exporter les données)
A7: 100 | B7: Onglet «E1_Données de projet» Saisie de données de projet, délais, coûts d’investissement, subventions, prêts, frais d’exploitation, etc.
A8: 101 | B8: Informations générales
A9: 101a | B9: Les champs de saisie sont affichés sur fond jaune clair.
A10: 101b | B10: Les champs de saisie avec des valeurs standard et/ou des calculs sont affichés sur fond bleu clair. Notez bien que toute modification de ces champs peut entraîner des erreurs en d’autres emplacements et, par conséquent, à des assertions erronées de l’outil.
A11: 101c | B11: Champs de saisie dans lesquels peuvent être reprises des données issues du fichier Excel QMCB Relevé de situation. Remarque : pour éviter de copier les formules, utilisez la fonction «Coller - Valeurs».
A12: 101d | B12: Champs de résultat dont le contenu peut être copié et inséré dans un fichier externe. Ces champs sont modifiables. Notez bien que toute modification de ces champs peut entraîner des erreurs en d’autres emplacements et, par conséquent, à des résultats erronés.
A13: 101e | B13: Valeur par défaut des champs de saisie sur fond bleu clair. Si nécessaire, la valeur ou la formule peut être transférée dans la cellule bleue correspondante afin de rétablir la valeur initiale.
A14: 101k | B14: Tous les montants en CHF doivent être indiqués hors TVA.
A15: 105 | B15: Valeurs ou formules prédéfinies dans les champs sur fond bleu clair. Les écarts sont signalés dans les champs sur fond bleu clair.
A16: 106 | B16: Champ de saisie pour le nom et la désignation du projet et/ou de la variante
A17: 107 | B17: Personne en charge de l’édition de l'outil d'analyse de rentabilité
A18: 108 | B18: Avertissements : Un court texte explicatif apparaît dans le champ Avertissements en cas de saisie de valeurs non plausibles (p. ex. déperditions du réseau = 80 % ou similaire)
A19: 110 | B19: Quantités de chaleur, déperditions du réseau et informations générales sur le projet
A20: 110a | B20: Quantité maximale de chaleur vendue en MWh/an, somme de la consommation de chaleur (point 320) de tous les clients dans l'onglet « E3_Consommateurs »
A21: 110b | B21: Déperditions du réseau de chaleur à distance par rapport à la quantité de chaleur injectée dans le réseau (exigence QMCB ≤ 10 %). Pour les réseaux en cours d’extension, il convient d’indiquer au mieux une déperdition moyenne.
A22: 110c | B22: Diminution annuelle des besoins en chaleur. Diminution annuelle moyenne des besoins en chaleur par des mesures d’efficacité (p.ex. Amélioration de l’enveloppe des bâtiments, de l’isolation) des consommateurs de chaleur depuis la mise en service. Cette valeur est prise en compte dans les besoins totaux en chaleur (point 532 dans l'onglet «B1_Calculs»).
A23: 110g | B23: Année de base pour les investissements : utilisée comme année 0 pour les calculs de rentabilité.
A24: 110h | B24: Année de la première fourniture de chaleur: année à partir de laquelle des recettes ont été générées. (Reprise de la première année de fourniture de chaleur dans l’onglet «Consommateurs»).
A25: 115 | B25: Saisie des quantités d'énergie et des rendements
B26: #VALUE!
A27: 115a | B27: Part de la chaleur utile produite en %, produite à partir de la chaudière à plaquettes de bois. 100 % correspond à une installation monovalente. La part de la condensation des gaz de fumées de la chaudière à plaquettes de bois est saisie séparément.
A28: 115b | B28: Part de la chaleur utile produite en %, produite directement à partir de la condensation des gaz de fumées de la chaudière à plaquettes de bois.
A29: 115c | B29: Part de la chaleur utile produite en %, produite par une installation de cogénération chaleur-force (CCF).
A30: 115d | B30: Part de la chaleur utile produite en %, produite par une pompe à chaleur (PAC).
A31: 115e | B31: Part de la chaleur utile produite en %, produite par un producteur supplémentaire de chaleur. La production supplémentaire de chaleur est ouvert à toutes les technologies.
A32: 115f | B32: Part de la chaleur utile produite en %, produite à partir de la récupération de chaleur résiduelle.
A33: 115g | B33: Part de la chaleur utile produite en %, produite à base d’énergie fossile : calculé à partir de des parts de point 115a - 115f.
A34: 115l | B34: Rendement thermique annuel de l'installation de cogénération chaleur-force (CCF). Le rendement global de la cogénération chaleur-force est calculé à partir de la somme des rendements thermique et électrique (voir illustration).
A35: 115m | B35: Rendement électrique annuel de l'installation de cogénération chaleur-force (CCF). Le rendement global de la cogénération chaleur-force est calculé à partir de la somme des rendements thermique et électrique (voir illustration).
A36: 115n | B36: Rendement thermique annuel du producteur supplémentaire de chaleur.
A37: 115o | B37: Rendement annuel, soit le coefficient de performance annuel (COPA) de la pompe à chaleur (PAC).
A38: 115q | B38: Rendement thermique annuel de la chaudière d’appoint à combustible fossile. Si une chaudière au gaz est intégrée pour couvrir les pointes de charge et que le prix en MWh relative au pouvoir calorifique supérieur (pcs) est indiqué sous le point 124, il faut également tenir compte d'un facteur 0.9 pour la la conversion de pcs en pci.
... A42: 115x | B42: Charbon végétal produit avec la cogénération chaleur-force en m³/an ou t/an. Seul le charbon végétal commercialisable doit être indiqué, à l'exclusion des cendres.
A43: 120 | B43: Saisie des prix d'achat de l’énergie
...

Sheet E1_Données de projet
A1: 100 | B1: QM Chauffages au bois - Modèle de rentabilité - Données de projet
K2: 105 | M2: 105
A3: 101a | C3: Champ de saisie | K3: Valeurs par défaut | O3: Commentaires | Q3: Remarques
A4: b | C4: Valeur standard ou calcul (modifiable)
A5: e | C5: Valeur par défaut de la valeur standard
A6: 101k | B6: (hors TVA)
A8: 106 | B8: Projet/Variante : | C8: QMH projet example 2
C9: Modèle de rentabilité
C10: CP / lieu
A12: 107 | B12: Saisi par : | C12: date, nome
A14: 108 | B14: Avertissements Remarques : | C14: =IF(W14>10,X15,IF(S14>0,U14,"")) | W14: =COUNTIF(U17:W164,">0") -> 4 | X14: =_xlfn.TEXTJOIN(", ",TRUE,X18:X164) -> 115n: Le rendement thermique annuel du producteur supplémentaire de chaleur est supposé très faible, 12=g: Le prix d'achat de l'électricité de la PAC est supposé très élevé, 145e: Les investissements pour les sondes géothermiques ou l'utilisation des eaux souterraines sont très faibles, 160e: Le taux d'intérêt indiqué est très faible., 160e: Le taux d'intérêt indiqué est très faible.
X15: Plus de 10 remarques ! | Y15: Il y a des avertissements dans le registre 'E1_Données de projet' !
S16: Min | T16: Max | U16: Unters. | V16: Übers. | W16: S.Fehler | X16: Avertissement | Y16: TexteMin | Z16: TexteMax | AA16: TexteAutre
A17: 110 | B17: Quantité de chaleur, réseau, lancement du projet
A18: a | C18: Consommation de chaleur totale des utilisateurs | D18: =SUM(E3_Consommateurs!D18:XFD18) -> 2353 | E18: MWh/an | S18: 10 | T18: 9999999999 | U18: =IF($D18<S18,1,0) -> 0 | V18: =IF($D18>T18,1,0) -> 0 | X18: =IF(U18=1,Y18,IF(V18=1,Z18,IF(W18=1,AA18,""))) | Y18: 110a: La consommation de chaleur est trop faible ! | Z18: 110a: La consommation de chaleur est très grande.
A19: b | C19: Déperditions du réseau | D19: 10 | E19: % | K19: 10 | S19: 4 | T19: 20 | U19: =IF($D19<S19,1,0) -> 0 | V19: =IF($D19>T19,1,0) -> 0 | W19: =IF(D19="",1,0) -> 0 | X19: =IF(U19>0,Y19,"")&IF(V19>0,Z19,"")&IF(W19>0,AA19,"") | Y19: 110b: Les déperditions du réseau de chaleur sont trop faibles ! | Z19: 110b: Les déperditions du réseau de chaleur sont trop élevées ! | AA19: 110b: Pas de déperditions de réseau saisies.
A20: c | C20: Diminution des besoins de chaleur (Amélioration de l’enveloppe du bâtiment) | D20: 1 | E20: % | S20: 0 | T20: 5 | U20: =IF($D20<S20,1,0) -> 0 | V20: =IF($D20>T20,1,0) -> 0 | W20: =IF(D20="",1,0) -> 0 | X20: =IF(U20>0,Y20,"")&IF(V20>0,Z20,"")&IF(W20>0,AA20,"") | Y20: 110c: La diminution des besoins en chaleur des consommateurs de chaleur est négative ; surconsommation. | Z20: 110c: La diminution des besoins de chaleur est très élevée. | AA20: 110c: Aucune diminution des besoins de chaleur saisi.
A22: g | C22: Année de démarrage du projet | D22: 2024 | S22: 2000 | T22: 2100 | U22: =IF($D22<S22,1,0) -> 0 | V22: =IF($D22>T22,1,0) -> 0 | X22: =IF(U22>0,Y22,"")&IF(V22>0,Z22,"")&IF(W22>0,AA22,"") | Y22: 110g: L'année de démarrage du projet est antérieure à 2000. | Z22: 110g: L'année de démarrage du projet est postérieure à 2100.
A23: h | C23: Année de mise en service / première fourniture de chaleur | D23: =MIN(E3_Consommateurs!D21:XFD21) -> 2025 | K23: =MIN(E3_Consommateurs!D21:XFD21) -> 2025 | S23: =Eing_Beginnjahr -> 2024 | T23: =S23+3 -> 2027 | U23: =IF($D23<S23,D23,0) -> 0 | V23: =IF($D23>T23,1,0) -> 0 | X23: =IF(U23>0,Y23,"")&IF(V23>0,Z23,"")&IF(W23>0,AA23,"") | Y23: 110h: L'année de mise en service est antérieure à l'année de démarrage du projet. | Z23: 110h: Plus de 3 ans séparent la mise en service du démarrage du projet. Ajuster la date de première fourniture de chaleur dans l'onglet Consommateurs.
A25: 115 | B25: Saisie des quantités de la production d'énergie et des rendements
A26: a | C26: Part de la chaleur utile produite à partir de la chaudière à plaquettes de bois | D26: 73 | E26: % | S26: 70 | T26: 100 | U26: =IF($D26<S26,1,0) -> 0 | V26: =IF($D26>T26,1,0) -> 0 | X26: =IF(U26>0,Y26,"")&IF(V26>0,Z26,"")&IF(W26>0,AA26,"") | Y26: 115a: La part de la chaleur annuelle produite à partir de la chaudière à plaquettes de bois est supposé faible | Z26: 115a: La part de la chaleur annuelle produite à partir de la chaudière à plaquettes de bois surpasse 100%
A27: b | C27: Part de la chaleur utile produite à partir de la condensation des fumées | D27: 7 | E27: % | S27: 0 | T27: =0.2*Eing_Anteil_Biomasse -> 14.6 | U27: =IF($D27<S27,1,0) -> 0 | V27: =IF($D27>T27,1,0) -> 0 | X27: =IF(U27>0,Y27,"")&IF(V27>0,Z27,"")&IF(W27>0,AA27,"") | Y27: 115b: La part de la chaleur annuelle produite à partir de la condensation des gaz de fumées de la chaudière à plaquettes est supposé faible | Z27: 115b: La part de la chaleur annuelle produite à partir de la condensation des gaz de fumées de la chaudière à plaquettes est très élevée
A28: c | C28: Part de la chaleur utile produite par la cogénération chaleur-force (CCF) | E28: % | S28: 10 | T28: 100 | U28: =IF(AND($D28>0,$D28<S28),1,0) -> 0 | V28: =IF($D28>T28,1,0) -> 0 | X28: =IF(U28>0,Y28,"")&IF(V28>0,Z28,"")&IF(W28>0,AA28,"") | Y28: 115c: La part de la chaleur annuelle produite à partir de la CCF est supposé faible | Z28: 115c: La part de la chaleur annuelle produite à partir de la CCF surpasse 100%
A29: d | C29: Part de la chaleur utile produite par une pompe à chaleur (PAC) | D29: 20 | E29: % | S29: 5 | T29: 100 | U29: =IF(AND($D29>0,$D29<S29),1,0) -> 0 | V29: =IF($D29>T29,1,0) -> 0 | X29: =IF(U29>0,Y29,"")&IF(V29>0,Z29,"")&IF(W29>0,AA29,"") | Y29: 115d: La part de la chaleur annuelle produite à partir de la PAC est supposé faible | Z29: 115d: La part de la chaleur annuelle produite à partir de la PAC surpasse 100%
A30: e | C30: Part de la chaleur utile produite par un producteur supplémentaire de chaleur | E30: % | S30: 10 | T30: 100 | U30: =IF(AND($D30>0,$D30<S30),1,0) -> 0 | V30: =IF($D30>T30,1,0) -> 0 | X30: =IF(U30>0,Y30,"")&IF(V30>0,Z30,"")&IF(W30>0,AA30,"") | Y30: 115e: La part de la chaleur annuelle produite à partir du producteur supplémentaire de chaleur est supposé faible | Z30: 115e: La part de la chaleur annuelle produite à partir du producteur supplémentaire de chaleur surpasse 100%
A31: f | C31: Part de la chaleur utile produite à partir de la récupération de chaleur résiduelle | E31: % | S31: 5 | T31: 100 | U31: =IF(AND($D31>0,$D31<S31),1,0) -> 0 | V31: =IF($D31>T31,1,0) -> 0 | X31: =IF(U31>0,Y31,"")&IF(V31>0,Z31,"")&IF(W31>0,AA31,"") | Y31: 115f: La part de la chaleur annuelle produite à partir de la récupération de chaleur résiduelle est supposé faible | Z31: 115f: La part de la chaleur annuelle produite à partir de la récupération de chaleur résiduelle surpasse 100%
A32: g | C32: Part de chaleur utile produite à base d'énergie fossile | D32: =100-SUM(D26:D31) -> 0 | E32: %
A33: l | C33: Rendement thermique de la cogénération chaleur-force (CCF) | E33: % | S33: 30 | T33: 100 | U33: =IF(Eing_Anteil_WKK=0,0,IF($D33<S33,1,0)) -> 0 | V33: =IF(Eing_Anteil_WKK=0,0,IF($D33>T33,1,0)) -> 0 | X33: =IF(U33>0,Y33,"")&IF(V33>0,Z33,"")&IF(W33>0,AA33,"") | Y33: 115l: Le rendement thermique annuel de la cogénération chaleur-force (CCF) est supposé très faible | Z33: 115l: Le rendement thermique annuel de la cogénération chaleur-force (CCF) est supposé très élevé
A34: m | C34: Rendement électrique de la cogénération chaleur-force (CCF) | E34: % | S34: 10 | T34: 50 | U34: =IF(Eing_Anteil_WKK=0,0,IF($D34<S34,1,0)) -> 0 | V34: =IF(Eing_Anteil_WKK=0,0,IF($D34>T34,1,0)) -> 0 | X34: =IF(U34>0,Y34,"")&IF(V34>0,Z34,"")&IF(W34>0,AA34,"") | Y34: 115m: Le rendement électrique annuel de la cogénération chaleur-force (CCF) est supposé très faible | Z34: 115m: Le rendement électrique annuel de la cogénération chaleur-force (CCF) est supposé très élevé
A35: n | C35: Rendement thermique du producteur supplémentaire de chaleur | E35: % | S35: 40 | T35: 90 | U35: =IF(Eing_Anteil_WP=0,0,IF($D35<S35,1,0)) -> 1 | V35: =IF(Eing_Anteil_WP=0,0,IF($D35>T35,1,0)) -> 0 | X35: =IF(U35>0,Y35,"")&IF(V35>0,Z35,"")&IF(W35>0,AA35,"") -> 115n: Le rendement thermique annuel du producteur supplémentaire de chaleur est supposé très faible | Y35: 115n: Le rendement thermique annuel du producteur supplémentaire de chaleur est supposé très faible | Z35: 115n: Le rendement thermique annuel du producteur supplémentaire de chaleur est supposé très élevé
A36: o | C36: Coéfficient de performance annuel (COPA) de la pompe à chaleur (PAC) | D36: 3.8 | E36: - | S36: 1 | T36: 10 | U36: =IF(Eing_Anteil_WP=0,0,IF($D36<S36,1,0)) -> 0 | V36: =IF(Eing_Anteil_WP=0,0,IF($D36>T36,1,0)) -> 0 | X36: =IF(U36>0,Y36,"")&IF(V36>0,Z36,"")&IF(W36>0,AA36,"") | Y36: 115o: Le coéfficient de performance annuel (COPA) de la pompe à chaleur (PAC) est supposé très faible | Z36: 115o: Le coéfficient de performance annuel (COPA) de la pompe à chaleur (PAC) est supposé très élevé
A37: q | C37: Rendement annuel de la chaudière à combustible fossile | E37: % | S37: 40 | T37: 98 | U37: =IF(Anteil_fossil_erzeugt=0,0,IF($D37<S37,1,0)) -> 0 | V37: =IF(Anteil_fossil_erzeugt=0,0,IF($D37>T37,1,0)) -> 0 | W37: =IF(Anteil_fossil_erzeugt=0,0,IF(D37="",1,0)) -> 0 | X37: =IF(U37>0,Y37,"")&IF(V37>0,Z37,"")&IF(W37>0,AA37,"") | Y37: 115q: Le rendement thermique annuel de la (des) chaduière(s) fossil est supposé très faible | Z37: 115q: Le rendement thermique annuel de la (des) chaduière(s) fossil est supposé très élevé
A38: u | C38: Part de la cons. électr. de la PAC couverte par la cogénération (CCF) | E38: % | S38: 0 | T38: 100 | U38: =IF($D38<S38,1,0) -> 0 | V38: =IF($D38>T38,1,0) -> 0 | X38: =IF(U38>0,Y38,"")&IF(V38>0,Z38,"")&IF(W38>0,AA38,"") | Y38: 115u: La part de la consommation électrique annuelle de la pompe à chaleur (PAC), couverte par la cogénération chaleur-force (CCF), est négative | Z38: 115u: La part de la consommation électrique annuelle de la pompe à chaleur (PAC), couverte par la cogénération chaleur-force (CCF), surpasse 100%
A39: v | C39: Énergie auxiliaire (électricité) | D39: 2 | E39: % de la chaleur produite | K39: 2 | S39: 1 | T39: 3 | U39: =IF($D39<S39,1,0) -> 0 | V39: =IF($D39>T39,1,0) -> 0 | W39: =IF(Eing_Spez_Stromverbrauch=0,1,0) -> 0 | X39: =IF(U39>0,Y39,"")&IF(V39>0,Z39,"")&IF(W39>0,AA39,"") | Y39: 115v: La consommation spécifique d'électricité est supposée très faible. . | Z39: 115v: La consommation spécifique d'électricité est supposée très importante. | AA39: 115v: La consommation spécifique d'électricité a été définie comme nulle.
A40: w | C40: Part de la cons. électr. de l'énergie auxiliaire couverte par la cogénération (CCF) | E40: % | S40: 0 | T40: 100 | U40: =IF(0<$D40<S40,1,0) -> 0 | V40: =IF($D40>T40,1,0) -> 0 | X40: =IF(U40>0,Y40,"")&IF(V40>0,Z40,"")&IF(W40>0,AA40,"") | Y40: 115w: Part de la consommation électrique annuelle pour éergies auxiliaires, couverte par la cogénération chaleur-force (CCF), est négative | Z40: 115w: Part de la consommation électrique annuelle pour éergies auxiliaires, couverte par la cogénération chaleur-force (CCF), surpasse 100%
A41: x | C41: Production de charbon végétal | E41: m³/an | S41: 0 | T41: =5*max_verkaufteWM*Eing_Anteil_WKK*1000 -> 0 | U41: =IF(0<$D41<S41,1,0) -> 0 | V41: =IF($D41>T41,1,0) -> 0 | X41: =IF(U41>0,Y41,"")&IF(V41>0,Z41,"")&IF(W41>0,AA41,"") | Y41: 115x: La production annuelle de charbon végétale est négative | Z41: 115x: La production annuelle de charbon végétale est élevée | AG41: m³/an | AH41: CHF/m³
AG42: t/an | AH42: CHF/t
A43: 120 | B43: Prix d'achat de l'énergie
A44: a | C44: Prix du combustible bois (à partir du compteur de chaleur) | D44: 55 | E44: CHF/MWh d'énergie produite | S44: 0 | T44: 200 | U44: =IF($D44<S44,1,0) -> 0 | V44: =IF($D44>T44,1,0) -> 0 | X44: =IF(U44>0,Y44,"")&IF(V44>0,Z44,"")&IF(W44>0,AA44,"") | Y44: 120a: Le prix d’achat des plaquettes de bois est négative | Z44: 120a: Le prix d’achat des plaquettes de bois est supposé très élevé
A45: c | C45: Prix du combustible de la cogénération chaleur-force (CCF) | E45: CHF/MWh d'énergie finale | S45: 30 | T45: 200 | U45: =IF(Eing_Anteil_WKK=0,0,IF($D45<S45,1,0)) -> 0 | V45: =IF(Eing_Anteil_WKK=0,0,IF($D45>T45,1,0)) -> 0 | X45: =IF(U45>0,Y45,"")&IF(V45>0,Z45,"")&IF(W45>0,AA45,"") | Y45: 120c: Le prix d’achat des plaquettes de bois pour la cogénération (CCF) est supposé très faible | Z45: 120c: Le prix d’achat des plaquettes de bois pour la cogénération (CCF) est supposé très élevé
...

Sheet E2_Prix de la chaleur
A1: 200 | B1: QM Chauffages au bois - Modèle de rentabilité - Prix de la chaleur
A3: 101a | D3: Champ de saisie
A4: 101k | B4: (hors TVA)
A6: 206 | B6: Projet/Variante : | D6: =IF('E1_Données de projet'!C8=0,"",'E1_Données de projet'!C8) -> QMH projet example 2
D7: =IF('E1_Données de projet'!C9=0,"",'E1_Données de projet'!C9) -> Modèle de rentabilité
D8: =IF('E1_Données de projet'!C10=0,"",'E1_Données de projet'!C10) -> CP / lieu
A10: 207 | B10: Saisi par : | D10: =IF('E1_Données de projet'!C12=0,"",'E1_Données de projet'!C12) -> date, nome
A12: 210 | B12: Saisie du prix de base et du prix de consommation de chaleur | K12: Commentaires
A14: 211 | B14: Tarif 1 | D14: Privé | G14: {=SUMPRODUCT(E3_Consommateurs!$D$18:$XFD$18*(E3_Consommateurs!$D$22:$XFD$22="T 1: "&Eing_Abnehmerart1))/max_verkaufteWM*100} -> 63.280918 | H14: % de la quantité de chaleur
A15: a | F15: prix de base annuel | G15: 140 | H15: CHF/kW an
A16: b | F16: prix de consommation de chaleur | G16: 0.1 | H16: CHF/kWh
A17: c | F17: durée contractuelle | G17: 30 | H17: ans
A20: 212 | B20: Tarif 2 | D20: Industrie | G20: {=SUMPRODUCT(E3_Consommateurs!$D$18:$XFD$18*(E3_Consommateurs!$D$22:$XFD$22="T 2: "&Eing_Abnehmerart2))/max_verkaufteWM*100} -> 6.119847 | H20: % de la quantité de chaleur
A21: a | F21: prix de base annuel | G21: 120 | H21: CHF/kW an
A22: b | F22: prix de consommation de chaleur | G22: 0.1 | H22: CHF/kWh
A23: c | F23: durée contractuelle | G23: 30 | H23: ans
A26: 213 | B26: Tarif 3 | D26: Commune | G26: {=SUMPRODUCT(E3_Consommateurs!$D$18:$XFD$18*(E3_Consommateurs!$D$22:$XFD$22="T 3: "&Eing_Abnehmerart3))/max_verkaufteWM*100} -> 25.074373 | H26: % de la quantité de chaleur
A27: a | F27: prix de base annuel | G27: 100 | H27: CHF/kW an
A28: b | F28: prix de consommation de chaleur | G28: 0.1 | H28: CHF/kWh
A29: c | F29: durée contractuelle | G29: 50 | H29: ans
A32: 214 | B32: Tarif 4 | D32: Privé après 2030 | G32: {=SUMPRODUCT(E3_Consommateurs!$D$18:$XFD$18*(E3_Consommateurs!$D$22:$XFD$22="T 4: "&Eing_Abnehmerart4))/max_verkaufteWM*100} -> 5.5248619 | H32: % de la quantité de chaleur
A33: a | F33: prix de base annuel | G33: 140 | H33: CHF/kW an
A34: b | F34: prix de consommation de chaleur | G34: 0.1 | H34: CHF/kWh
A35: c | F35: durée contractuelle | G35: 25 | H35: ans
A38: 215 | B38: Tarif 5 | G38: {=SUMPRODUCT(E3_Consommateurs!$D$18:$XFD$18*(E3_Consommateurs!$D$22:$XFD$22="T 5: "&Eing_Abnehmerart5))/max_verkaufteWM*100} -> 0 | H38: % de la quantité de chaleur
A39: a | F39: prix de base annuel | H39: CHF/kW an
A40: b | F40: prix de consommation de chaleur | H40: CHF/kWh
A41: c | F41: durée contractuelle | H41: ans
A44: 216 | B44: Tarif 6 | G44: {=SUMPRODUCT(E3_Consommateurs!$D$18:$XFD$18*(E3_Consommateurs!$D$22:$XFD$22="T 6: "&Eing_Abnehmerart6))/max_verkaufteWM*100} -> 0 | H44: % de la quantité de chaleur
A45: a | F45: prix de base annuel | H45: CHF/kW an
A46: b | F46: prix de consommation de chaleur | H46: CHF/kWh
A47: c | F47: durée contractuelle | H47: ans

Sheet E3_Consommateurs
A1: 300 | B1: QM Chauffages au bois - Modèle de rentabilité - Saisie des consommateurs
A3: 101a | C3: Champ de saisie
A4: 101b | C4: Valeur standard ou calcul (modifiable)
A5: 101c | C5: Champ transmis depuis le relevé de situation
A6: 206 | B6: Projet/Variante : | C6: =IF('E1_Données de projet'!C8=0,"",'E1_Données de projet'!C8) -> QMH projet example 2
C7: =IF('E1_Données de projet'!C9=0,"",'E1_Données de projet'!C9) -> Modèle de rentabilité
C8: =IF('E1_Données de projet'!C10=0,"",'E1_Données de projet'!C10) -> CP / lieu
A10: 207 | B10: Saisi par : | C10: =IF('E1_Données de projet'!C12=0,"",'E1_Données de projet'!C12) -> date, nome
A12: 310 | B12: Indications concernant les consommateurs
A14: 311 | B14: Généralités | C14: Numéro | D14: 1 | E14: 2 | F14: 3 | G14: 4 | H14: 5 | I14: 6 | J14: 7 | K14: 8 | L14: 9 | M14: 10 | N14: 11 | O14: 12 | P14: 13 | Q14: 14 | R14: 15 | S14: 16 | T14: 17 | U14: 18 | V14: 19 | W14: 20 | X14: 21 | Y14: 22 | Z14: 23 | AA14: 24 | AB14: 25 | AC14: 26 | AD14: 27 | AE14: 28
A15: 312 | C15: Désignation | D15: École | E15: Chancellerie municipale | F15: École maternelle | G15: Lotissement | H15: Lotissement | I15: Lotissement | J15: Lotissement | K15: Lotissement | L15: Lotissement | M15: Lotissement | N15: Lotissement | O15: Lotissement | P15: Lotissement | Q15: Lotissement | R15: Lotissement | S15: Lotissement | T15: Lotissement | U15: Crèche/EFH | V15: Nouveau MFH | W15: Lotissement | X15: EFH | Y15: Restaurant Couronne | Z15: Église | AA15: MFH | AB15: Rest. Central | AC15: MFH | AD15: MFH | AE15: EFH
D16: Village | E16: Rue du village 6 | F16: Village | G16: Bas-Village | H16: Bas-Village | I16: Bas-Village | J16: Bas-Village | K16: Bas-Village | L16: Bas-Village | M16: Village neuf | N16: Village neuf | O16: Village neuf | P16: Village neuf | Q16: Village neuf | R16: Village neuf | S16: Village neuf | T16: Village supérieur | U16: Village supérieur | V16: Village supérieur | W16: Arrière village | X16: Arrière village | Z16: Pfarreiheim | AA16: Arrière village 2 | AC16: Arrière village 5 | AD16: Arrière village 4 | AE16: Arrière village 7
G17: Maison 1 | H17: Maison 2 | I17: Maison 3 | J17: Maison 4 | K17: Maison 5 | L17: Maison 6 | M17: Maison 1 | N17: Maison 2 | O17: Maison 3 | P17: Maison 4 | Q17: Maison 5 | R17: Maison 6 | S17: Maison 7
A18: 320 | B18: Besoin de chaleur | C18: Besoin total de chaleur [MWh/an] | D18: 343 | E18: 126 | F18: 44 | G18: 132 | H18: 106 | I18: 101 | J18: 113 | K18: 88 | L18: 80 | M18: 76 | N18: 76 | O18: 38 | P18: 46 | Q18: 53 | R18: 22 | S18: 35 | T18: 233 | U18: 48 | V18: 130 | W18: 124 | X18: 12 | Y18: 102 | Z18: 29 | AA18: 40 | AB18: 42 | AC18: 44 | AD18: 48 | AE18: 22
A19: 321 | C19: Puissance souscrite [kW] | D19: 155 | E19: 65 | F19: 22 | G19: 68 | H19: 54 | I19: 52 | J19: 58 | K19: 45 | L19: 41 | M19: 38 | N19: 38 | O19: 19 | P19: 23 | Q19: 27 | R19: 11 | S19: 18 | T19: 120 | U19: 20 | V19: 65 | W19: 62 | X19: 6 | Y19: 50 | Z19: 20 | AA19: 20 | AB19: 25 | AC19: 24 | AD19: 25 | AE19: 12
A20: 322 | B20: Raccordement | C20: Chaleur cons. dans l'année du racc. [%] | D20: 0.5 | E20: 0.5 | F20: 0.5 | G20: 0.5 | H20: 1 | I20: 0.5 | J20: 0.5 | K20: 0.5 | L20: 1 | M20: 1 | N20: 0.5 | O20: 0.5 | P20: 0.5 | Q20: 0.5 | R20: 0.5 | S20: 0.5 | T20: 0.5 | U20: 0.5 | V20: 0.5 | W20: 0.5 | X20: 0.5 | Y20: 0.5 | Z20: 0.5 | AA20: 0.5 | AB20: 0.5 | AC20: 0.5 | AD20: 0.5 | AE20: 0.5
A21: 323 | C21: Année de raccordement | D21: 2025 | E21: 2025 | F21: 2025 | G21: 2026 | H21: 2026 | I21: 2026 | J21: 2026 | K21: 2026 | L21: 2026 | M21: 2027 | N21: 2027 | O21: 2027 | P21: 2027 | Q21: 2027 | R21: 2027 | S21: 2027 | T21: 2026 | U21: 2027 | V21: 2032 | W21: 2025 | X21: 2025 | Y21: 2025 | Z21: 2025 | AA21: 2027 | AB21: 2027 | AC21: 2027 | AD21: 2027 | AE21: 2027
A22: 324 | B22: Tarif | C22: Prix de la chaleur - Tarif | D22: T 3: Commune | E22: T 3: Commune | F22: T 3: Commune | G22: T 1: Privé | H22: T 1: Privé | I22: T 1: Privé | J22: T 1: Privé | K22: T 1: Privé | L22: T 1: Privé | M22: T 1: Privé | N22: T 1: Privé | O22: T 1: Privé | P22: T 1: Privé | Q22: T 1: Privé | R22: T 1: Privé | S22: T 1: Privé | T22: T 1: Privé | U22: T 3: Commune | V22: T 4: Privé après 2030 | W22: T 1: Privé | X22: T 1: Privé | Y22: T 2: Industrie | Z22: T 3: Commune | AA22: T 1: Privé | AB22: T 2: Industrie | AC22: T 1: Privé | AD22: T 1: Privé | AE22: T 1: Privé
A23: 325 | B23: (hors TVA) | C23: Coûts de raccordement (uniques) [CHF] | D23: 124000 | E23: 65000 | F23: 22000 | G23: 68000 | H23: 54000 | I23: 52000 | J23: 58000 | K23: 45000 | L23: 41000 | M23: 38000 | N23: 38000 | O23: 28500 | P23: 23000 | Q23: 27000 | R23: 16500 | S23: 27000 | T23: 96000 | U23: 30000 | V23: 65000 | W23: 62000 | X23: 9000 | Y23: 50000 | Z23: 30000 | AA23: 30000 | AB23: 25000 | AC23: 24000 | AD23: 25000 | AE23: 18000
A24: 326 | B24: Subvention | C24: Subvention unique de raccordement
A25: 330 | C25: Coûts de capital annuels [CHF/an] | D25: =IF(ISBLANK(D22),0,SUM(D23,-D24)/VLOOKUP(D22,$B$36:$E$41,4,0)) -> 2480 | E25: =IF(ISBLANK(E22),0,SUM(E23,-E24)/VLOOKUP(E22,$B$36:$E$41,4,0)) -> 1300 | F25: =IF(ISBLANK(F22),0,SUM(F23,-F24)/VLOOKUP(F22,$B$36:$E$41,4,0)) -> 440 | G25: =IF(ISBLANK(G22),0,SUM(G23,-G24)/VLOOKUP(G22,$B$36:$E$41,4,0)) -> 2266.6667 | H25: =IF(ISBLANK(H22),0,SUM(H23,-H24)/VLOOKUP(H22,$B$36:$E$41,4,0)) -> 1800 | I25: =IF(ISBLANK(I22),0,SUM(I23,-I24)/VLOOKUP(I22,$B$36:$E$41,4,0)) -> 1733.3333 | J25: =IF(ISBLANK(J22),0,SUM(J23,-J24)/VLOOKUP(J22,$B$36:$E$41,4,0)) -> 1933.3333 | K25: =IF(ISBLANK(K22),0,SUM(K23,-K24)/VLOOKUP(K22,$B$36:$E$41,4,0)) -> 1500 | ... IZ25: =IF(ISBLANK(IZ22),0,SUM(IZ23,-IZ24)/VLOOKUP(IZ22,$B$36:$E$41,4,0)) -> 0
A26: 331 | C26: Coûts de base annuels [CHF/an] | D26: =IF(ISBLANK(D22),0,(D19*VLOOKUP(D22,$B$36:$D$41,3,0))) -> 15500 | E26: =IF(ISBLANK(E22),0,(E19*VLOOKUP(E22,$B$36:$D$41,3,0))) -> 6500 | F26: =IF(ISBLANK(F22),0,(F19*VLOOKUP(F22,$B$36:$D$41,3,0))) -> 2200 | G26: =IF(ISBLANK(G22),0,(G19*VLOOKUP(G22,$B$36:$D$41,3,0))) -> 9520 | H26: =IF(ISBLANK(H22),0,(H19*VLOOKUP(H22,$B$36:$D$41,3,0))) -> 7560 | I26: =IF(ISBLANK(I22),0,(I19*VLOOKUP(I22,$B$36:$D$41,3,0))) -> 7280 | J26: =IF(ISBLANK(J22),0,(J19*VLOOKUP(J22,$B$36:$D$41,3,0))) -> 8120 | K26: =IF(ISBLANK(K22),0,(K19*VLOOKUP(K22,$B$36:$D$41,3,0))) -> 6300 | ... IZ26: =IF(ISBLANK(IZ22),0,(IZ19*VLOOKUP(IZ22,$B$36:$D$41,3,0))) -> 0
A27: 332 | C27: Coûts énergétiques annuels [CHF/an] | D27: =IF(ISBLANK(D22),0,(D18*1000*VLOOKUP(D22,$B$36:$D$41,2,0))) -> 34300 | E27: =IF(ISBLANK(E22),0,(E18*1000*VLOOKUP(E22,$B$36:$D$41,2,0))) -> 12600 | F27: =IF(ISBLANK(F22),0,(F18*1000*VLOOKUP(F22,$B$36:$D$41,2,0))) -> 4400 | G27: =IF(ISBLANK(G22),0,(G18*1000*VLOOKUP(G22,$B$36:$D$41,2,0))) -> 13200 | H27: =IF(ISBLANK(H22),0,(H18*1000*VLOOKUP(H22,$B$36:$D$41,2,0))) -> 10600 | I27: =IF(ISBLANK(I22),0,(I18*1000*VLOOKUP(I22,$B$36:$D$41,2,0))) -> 10100 | J27: =IF(ISBLANK(J22),0,(J18*1000*VLOOKUP(J22,$B$36:$D$41,2,0))) -> 11300 | K27: =IF(ISBLANK(K22),0,(K18*1000*VLOOKUP(K22,$B$36:$D$41,2,0))) -> 8800 | ... IZ27: =IF(ISBLANK(IZ22),0,(IZ18*1000*VLOOKUP(IZ22,$B$36:$D$41,2,0))) -> 0
A28: 333 | C28: Coûts de base et énergétiques [CHF/an] | D28: =IF(ISBLANK(D22),0,SUM(D26:D27)) -> 49800 | E28: =IF(ISBLANK(E22),0,SUM(E26:E27)) -> 19100 | F28: =IF(ISBLANK(F22),0,SUM(F26:F27)) -> 6600 | G28: =IF(ISBLANK(G22),0,SUM(G26:G27)) -> 22720 | H28: =IF(ISBLANK(H22),0,SUM(H26:H27)) -> 18160 | I28: =IF(ISBLANK(I22),0,SUM(I26:I27)) -> 17380 | J28: =IF(ISBLANK(J22),0,SUM(J26:J27)) -> 19420 | K28: =IF(ISBLANK(K22),0,SUM(K26:K27)) -> 15100 | ... IZ28: =IF(ISBLANK(IZ22),0,SUM(IZ26:IZ27)) -> 0
A29: 334 | C29: Coûts annuels [CHF/an] | D29: =IF(ISBLANK(D23),0,SUM(D25:D27)) -> 52280 | E29: =IF(ISBLANK(E23),0,SUM(E25:E27)) -> 20400 | F29: =IF(ISBLANK(F23),0,SUM(F25:F27)) -> 7040 | G29: =IF(ISBLANK(G23),0,SUM(G25:G27)) -> 24986.667 | H29: =IF(ISBLANK(H23),0,SUM(H25:H27)) -> 19960 | I29: =IF(ISBLANK(I23),0,SUM(I25:I27)) -> 19113.333 | J29: =IF(ISBLANK(J23),0,SUM(J25:J27)) -> 21353.333 | K29: =IF(ISBLANK(K23),0,SUM(K25:K27)) -> 16600 | ... IZ29: =IF(ISBLANK(IZ23),0,SUM(IZ25:IZ27)) -> 0
A30: 335 | C30: Prix de revient de la chaleur [ct/kWh] | D30: =IF(ISBLANK(D18),0,(D29/D18/10)) -> 15.241983 | E30: =IF(ISBLANK(E18),0,(E29/E18/10)) -> 16.190476 | F30: =IF(ISBLANK(F18),0,(F29/F18/10)) -> 16 | G30: =IF(ISBLANK(G18),0,(G29/G18/10)) -> 18.929293 | H30: =IF(ISBLANK(H18),0,(H29/H18/10)) -> 18.830189 | I30: =IF(ISBLANK(I18),0,(I29/I18/10)) -> 18.924092 | J30: =IF(ISBLANK(J18),0,(J29/J18/10)) -> 18.896755 | K30: =IF(ISBLANK(K18),0,(K29/K18/10)) -> 18.863636 | ... IZ30: =IF(ISBLANK(IZ18),0,(IZ29/IZ18/10)) -> 0
B35: Tarifname | C35: Arbeitstarif [CHF/kWh a] | D35: Leistungstarif [CHF/kW] | E35: Vertragslaufzeit [Jahre]
B36: ="T 1: "&Eing_Abnehmerart1 -> T 1: Privé | C36: =Eing_Arbeitspreis1 -> 0.1 | D36: =Eing_Leistungspreis1 -> 140 | E36: =Eing_Vertragslaufzeit1 -> 30
B37: ="T 2: "&Eing_Abnehmerart2 -> T 2: Industrie | C37: =Eing_Arbeitspreis2 -> 0.1 | D37: =Eing_Leistungspreis2 -> 120 | E37: =Eing_Vertragslaufzeit2 -> 30
B38: ="T 3: "&Eing_Abnehmerart3 -> T 3: Commune | C38: =Eing_Arbeitspreis3 -> 0.1 | D38: =Eing_Leistungspreis3 -> 100 | E38: =Eing_Vertragslaufzeit3 -> 50
B39: ="T 4: "&Eing_Abnehmerart4 -> T 4: Privé après 2030 | C39: =Eing_Arbeitspreis4 -> 0.1 | D39: =Eing_Leistungspreis4 -> 140 | E39: =Eing_Vertragslaufzeit4 -> 25
B40: ="T 5: "&Eing_Abnehmerart5 -> T 5: | C40: =Eing_Arbeitspreis5 -> 0 | D40: =Eing_Leistungspreis5 -> 0 | E40: =Eing_Vertragslaufzeit5 -> 0
B41: ="T 6: "&Eing_Abnehmerart6 -> T 6: | C41: =Eing_Arbeitspreis6 -> 0 | D41: =Eing_Leistungspreis6 -> 0 | E41: =Eing_Vertragslaufzeit6 -> 0

Sheet B1_Calculs
A1: 500 | B1: QM Chauffages au bois - Modèle de rentabilité - Résultat
A3: 101a | D3: Champ de saisie
A4: 101b | D4: Valeur standard ou calculée (modifiable)
A6: 206 | B6: Projet/Variante : | D6: =IF('E1_Données de projet'!C8=0,"",'E1_Données de projet'!C8) -> QMH projet example 2 | J6: 505 | K6: Évolution économique (graphique) | AH6: 506 | AI6: Évolution état du crédit / valeur résiduelle (graphique)
D7: =IF('E1_Données de projet'!C9=0,"",'E1_Données de projet'!C9) -> Modèle de rentabilité
D8: =IF('E1_Données de projet'!C10=0,"",'E1_Données de projet'!C10) -> CP / lieu
A10: 207 | B10: Saisi par : | D10: =IF('E1_Données de projet'!C12=0,"",'E1_Données de projet'!C12) -> date, nome
A12: 501 | B12: Avertissements : | D12: =IF('E1_Données de projet'!C14<>"",'E1_Données de projet'!Y15,"")
G13: 511
A14: 510 | B14: Coûts d'exploitation | E14: (100% des racc.; Année 1) | F14: [CHF/an] | G14: Augmentation des prix [%]
A15: a | B15: Total des coûts d'exploitation | F15: =SUM(F16:F26) -> 230764.72 | G15: {=IF(F15=0,0,SUMPRODUCT(F16:F26*G16:G26)/SUM(F16:F26))} -> 0.01
A16: b | C16: Coûts de l'énergie du combustible biomasse | F16: =Energiekosten_Holzschnitzel -> 82124.019 | G16: =Eing_allg_Teuerung/100 -> 0.01
A17: c | C17: Coûts de l'énergie de la CCF | F17: =Energiekosten_WKK -> 0 | G17: =Eing_allg_Teuerung/100 -> 0.01
A18: d | C18: du producteur suppl. de chaleur | F18: =Energiekosten_Zusatz -> 0 | G18: =Eing_allg_Teuerung/100 -> 0.01
A19: e | C19: de la récupération de chaleur résiduelle | F19: =Energiekosten_AWN -> 0 | G19: =Eing_allg_Teuerung/100 -> 0.01
A20: f | C20: du combustible fossile | F20: =Energiekosten_fossil -> 0 | G20: =Eing_allg_Teuerung/100 -> 0.01
A21: g | C21: de l'électricité (énergie auxiliaire + PAC) | F21: =SUM(Stromkosten_Hilfsenergie,Stromkosten_WP) -> 37140.705 | G21: =Eing_allg_Teuerung/100 -> 0.01
A22: h | C22: Coûts d'exploitation | F22: =Eing_Betriebskosten -> 15000 | G22: =Eing_allg_Teuerung/100 -> 0.01
A23: i | C23: Frais de personnel | F23: =Eing_Administration -> 16700 | G23: =Eing_allg_Teuerung/100 -> 0.01
A24: j | C24: Frais d'entretien | F24: =Eing_Unterhaltskosten -> 45200 | G24: =Eing_allg_Teuerung/100 -> 0.01
A25: k | C25: Frais de loyer/bail/terrain | F25: =Eing_Kosten_Grundstück -> 4000 | G25: =Eing_allg_Teuerung/100 -> 0.01
A26: l | C26: Autres coûts (assurances, etc.) | F26: =Eing_Sonstige_Kosten -> 30600 | G26: =Eing_allg_Teuerung/100 -> 0.01
A28: q | E28: Recettes de la vente d'électricité | F28: =-Ertrag_Stromeinspeisung -> 0 | G28: =Eing_allg_Teuerung/100 -> 0.01
A29: r | E29: Recettes de la vente de charbon végétal | F29: =-Ertrag_Pflanzenkohle -> 0 | G29: =Eing_allg_Teuerung/100 -> 0.01
A30: w | B30: Prix de la chaleur | G30: =G15 -> 0.01
B32: Données du projet | F32: CHF
A33: 145 | C33: Montant total des investissements | F33: =Gesamtinvestition -> 3060000
A34: 165 | C34: Total des subventions | F34: =Gesamtsumme_Förderung -> 300000
A35: 543 | E35: Total des coûts de raccordement | F35: =SUM(G44:G68) -> -1191000
A36: 155 | E36: Total des capitaux propres | F36: =Eing_Eigenkapital -> 500000
A37: 160 | E37: Total des capitaux étrangers | F37: =SUM(Eing_Kredit_1,Eing_Kredit_2) -> 1350000
A39: 530 | E39: Coûts d'investissement de l'installation | I39: Financement | N39: Recettes | U39: Dépenses | V39: Coûts de l'énergie | AB39: Coûts d'exploitation et d'entretien | AI39: Cashflow | AM39: Compte d'exploitation | AQ39: Valeur résiduelle | AT39: Hilfsberechnungen
B41: Année | C41: Besoin de chaleur, déperditions réseau incl. | D41: Charge | E41: Coûts d'investissement | F41: Subventions uniques | G41: Contributions de raccordement | H41: Coûts d'investissement nets | I41: Fonds propres | J41: Crédits / Prêts | K41: Déficit de financement | L41: Cash-flow cumulé (Comparaison) | M41: Verzinsung Investitions- summe | N41: Vente de chaleur (y compris prix annuel de base) | O41: Vente d'électricité | P41: Vente de charbon végétal | Q41: Subventions pluriannuelles | R41: Recettes supplémentaires | S41: Recettes effectives | T41: Recettes totales | U41: Biomasse pour chaudières à bois | V41: Biomasse pour CCF | W41: Énergie du producteur supplémentaire de chaleur | X41: Énergie de la récupération de chaleur résiduelle | Y41: Combustible fossile | Z41: Électricité (pour la PAC) | AA41: Électricité (pour l'énergie auxiliaire) | AB41: Exploitation + administration | AC41: Entretien | AD41: Autres + loyer/ bail | AE41: Autres dépenses | AF41: Dépenses effectives | AG41: Intérêts crédits / Prêts | AH41: Total des charges avant amor-tissements | AI41: Amortisse-ment des crédits | AJ41: Total des charges, y compris amortissement des crédits | AK41: Cashflow | AL41: Cash-flow cumulé | AM41: Amortisse-ment | AN41: Total des charges, y compris amortissement | AO41: Bénéfice net / Perte nette | AP41: Bénéfice / Perte cumulé(e) | AQ41: Valeur résiduelle des installations | AR41: Solde du crédit | AS41: Année après la MES | AT41: Stand Eigenmittel | AU41: Kreditguthaben 1 | AV41: Kreditbedarf 1 | AW41: Amortisation Kredit 1 | AX41: Kreditstand 1 | AY41: Kreditguthaben 2 | AZ41: Kreditbedarf 2 | BA41: Amortisation Kredit 2 | BB41: Kreditstand 2 | BC41: Invest; Restwert; CashFlow | BD41: Invest; CashFlow
B42: 531 | C42: 532 | D42: 533 | E42: 541 | F42: 542 | G42: 543 | H42: 544 | I42: 551 | J42: 552 | K42: 555 | L42: 582 | M42: 559 | N42: 561 | O42: 562 | P42: 563 | Q42: 564 | R42: 566 | S42: 567 | T42: 569 | U42: 571a | V42: 571b | W42: 571c | X42: 571d | Y42: 571e | Z42: 572a | AA42: 572b | AB42: 574a | AC42: 574b | AD42: 575 | AE42: 576 | AF42: 577 | AG42: 578 | AH42: 579 | AI42: 580 | AK42: 581 | AL42: 582 | AM42: 585 | AO42: 588 | AP42: 589 | AQ42: 591 | AR42: 592 | AS42: 599
B43: [JJJJ] | C43: MWh | D43: % | E43: CHF | F43: CHF | G43: CHF | H43: CHF | I43: CHF | J43: CHF | K43: CHF | L43: CHF | M43: % | N43: CHF | O43: CHF | P43: CHF | Q43: CHF | R43: CHF | S43: CHF | T43: CHF | U43: CHF | V43: CHF | W43: CHF | X43: CHF | Y43: CHF | Z43: CHF | AA43: CHF | AB43: CHF | AC43: CHF | AD43: CHF | AE43: CHF | AF43: CHF | AG43: CHF | AH43: CHF | AI43: CHF | AJ43: CHF | AK43: CHF | AL43: CHF | AM43: CHF | AN43: CHF | AO43: CHF | AP43: CHF | AQ43: CHF | AR43: CHF | AT43: CHF | AU43: CHF | AV43: CHF | AW43: CHF | AX43: CHF | AY43: CHF | AZ43: CHF | BA43: CHF | BB43: CHF
B44: =Eing_Beginnjahr -> 2024 | C44: {=(SUMPRODUCT((E3_Consommateurs!$D$21:$XFD$21<B1_Calculs!B44)*E3_Consommateurs!$D$18:$XFD$18)+SUMPRODUCT((E3_Consommateurs!$D$21:$XFD$21=B1_Calculs!B44)*E3_Consommateurs!$D$18:$XFD$18*E3_Consommateurs!$D$20:$XFD$20))/(100-Eing_Netzverluste)*100*(1-Eing_AbnW/100)^(B1_Calculs!B44-Eing_Beginnjahr)} -> 0 | D44: =IF(mittl_Erzeugte_Wärmemenge=0,0,C44/mittl_Erzeugte_Wärmemenge*100) -> 0 | E44: {=IF(AS44=0,0, (Eing_Kosten_Bau*(MOD((AS44),Eing_Nutzungsdauer_Bau)=0) +Eing_Invest_HolzAnlage*(MOD((AS44),Eing_Nutzungsdauer_Holz)=0) +Eing_Invest_WKKAnlage*(MOD((AS44),Eing_Nutzungsdauer_WKK)=0) +Eing_Invest_WPAnlage*(MOD((AS44),Eing_Nutzungsdauer_WP)=0) +Eing_Invest_SondenGrundwasser*(MOD((AS44),Eing_Nutzungsdauer_SondenGW)=0) +Eing_Invest_Zusatz*(MOD((AS44),Eing_Nutzungsdauer_Zusatz)=0) +Eing_Invest_AWN*(MOD((AS44),Eing_Nutzungsdauer_AWN)=0) +Eing_Invest_Spitzenlast*(MOD((AS44),Eing_Nutzungsdauer_Spitzenlast)=0) +Eing_Invest_Installationen*(MOD((AS44),Eing_Nutzungsdauer_Installationen)=0) +Eing_Invest_Wärmenetz*(MOD((AS44),Eing_Nutzungsdauer_Netz)=0) +Eing_Invest_Messung*(MOD((AS44),Eing_Nutzungsdauer_Messung)=0))*(1+Eing_allg_Teuerung/100)^(AS44)) +Gesamtinvestition*SUMPRODUCT(('E1_Données de projet'!$D$83:$D$87=B44)*'E1_Données de projet'!$F$83:$F$87)/100} -> 918000 | F44: =-SUM(Einmaliger_Förderbeitrag_1*(B44=Förderungsauszahlung_1),Einmaliger_Förderbeitrag_2*(B44=Förderungsauszahlung_2),Einmaliger_Förderbeitrag_3*(B44=Förderungsauszahlung_3)) -> 0 | G44: {=-SUMPRODUCT((E3_Consommateurs!$D$21:$XFD$21=B1_Calculs!B44)*E3_Consommateurs!$D$23:$XFD$23)} -> 0 | H44: =SUM(E44:G44) -> 918000 | I44: =IF(H44<=0,0,MIN(Eing_Eigenkapital,H44)) -> 500000 | J44: =AV44+AZ44 -> 418000 | K44: =-H44+SUM(I44:J44) -> 0 | L44: =AL44 -> -40870 | M44: =IF(ISNUMBER(IRR(BC44)),IRR(BC44),"-") -> - | N44: {=SUM((SUMPRODUCT((E3_Consommateurs!$D$21:$XFD$21<B1_Calculs!B44)*E3_Consommateurs!$D$26:$XFD$26)+SUMPRODUCT((E3_Consommateurs!$D$21:$XFD$21=B1_Calculs!B44)*E3_Consommateurs!$D$26:$XFD$26*E3_Consommateurs!$D$20:$XFD$20))*(1+$G$30)^(B44-B$44),(SUMPRODUCT((E3_Consommateurs!$D$21:$XFD$21<B1_Calculs!B44)*E3_Consommateurs!$D$27:$XFD$27)+SUMPRODUCT((E3_Consommateurs!$D$21:$XFD$21=B1_Calculs!B44)*E3_Consommateurs!$D$27:$XFD$27*E3_Consommateurs!$D$20:$XFD$20))*((1+$G$30)*(1-'E1_Données de projet'!$D$20/100))^(B44-B$44))} -> 0 | O44: =-$F$28*D44/100*((1+$G$28)^(B44-$B$44)) -> 0 | P44: =-$F$29*D44/100*((1+$G$29)^(B44-$B$44)) -> 0 | Q44: =SUM(Eing_jährlicher_Förderbeitrag_1*((B44-Eing_Erstauszahlung_jährlFörderung_1)<=(Eing_Förderung_wiederholend_Laufzeit_1-1))*(B44>=Eing_Erstauszahlung_jährlFörderung_1),Eing_jährlicher_Förderbeitrag_2*((B44-Eing_Erstauszahlung_jährlFörderung_2)<=(Eing_Förderung_wiederholend_Laufzeit_2-1))*(B44>=Eing_Erstauszahlung_jährlFörderung_2)) -> 0 | T44: =IF(S44,S44,SUM(N44:R44)) -> 0 | U44: =Energiekosten_Holzschnitzel*D44/100*((1+$G$16)^(B44-$B$44)) -> 0 | V44: =Energiekosten_WKK*D44/100*((1+$G$17)^(B44-$B$44)) -> 0 | W44: =Energiekosten_Zusatz*D44/100*((1+$G$18)^(B44-$B$44)) -> 0 | X44: =Energiekosten_AWN*D44/100*((1+$G$19)^(B44-$B$44)) -> 0 | Y44: =Energiekosten_fossil*D44/100*(1+$G$20)^(B44-$B$44) -> 0 | Z44: =Stromkosten_WP*D44/100*((1+$G$21)^(B44-$B$44)) -> 0 | AA44: =Stromkosten_Hilfsenergie*D44/100*((1+$G$21)^(B44-$B$44)) -> 0 | AB44: =($F$22*(1+$G$22)^(B44-B$44)+$F$23*(1+$G$23)^(B44-B$44))*(B44>=Eing_JahrBegWLief)*VLOOKUP(B44,'E1_Données de projet'!$D$83:$I$87,6)/100 -> 0 | AC44: =$F$24*(1+$G$24)^(B44-B$44)*(B44>=Eing_JahrBegWLief)*VLOOKUP(B44,'E1_Données de projet'!$D$83:$I$87,6)/100 -> 0 | AD44: =Eing_Kosten_Grundstück*(1+$G$25)^(B44-B$44)+Eing_Sonstige_Kosten*(1+$G$26)^(B44-B$44) -> 34600 | AG44: =SUM(AX44*Eing_Kreditzinssatz_1/100,BB44*Eing_Kreditzinssatz_2/100) -> 6270 | AH44: =IF(AF44,SUM(AF44:AG44),SUM(U44:AG44)) -> 40870 | AI44: =SUM(AW44,BA44) -> 0 | AJ44: =SUM(AH44,AI44) -> 40870 | AK44: =SUM(-AJ44,T44) -> -40870 | AL44: =AK44 -> -40870 | AM44: =('E1_Données de projet'!$D$68*(1+Eing_allg_Teuerung/100)^('E1_Données de projet'!$I$68*ROUNDDOWN((AS44-1)/'E1_Données de projet'!$I$68,0))/'E1_Données de projet'!$I$68 +'E1_Données de projet'!$D$69*(1+Eing_allg_Teuerung/100)^('E1_Données de projet'!$I$69*ROUNDDOWN((AS44-1)/'E1_Données de projet'!$I$69,0))/'E1_Données de projet'!$I$69 +'E1_Données de projet'!$D$70*(1+Eing_allg_Teuerung/100)^('E1_Données de projet'!$I$70*ROUNDDOWN((AS44-1)/'E1_Données de projet'!$I$69,0))/'E1_Données de projet'!$I$70 +'E1_Données de projet'!$D$71*(1+Eing_allg_Teuerung/100)^('E1_Données de projet'!$I$71*ROUNDDOWN((AS44-1)/'E1_Données de projet'!$I$69,0))/'E1_Données de projet'!$I$71 +'E1_Données de projet'!$D$72*(1+Eing_allg_Teuerung/100)^('E1_Données de projet'!$I$72*ROUNDDOWN((AS44-1)/'E1_Données de projet'!$I$69,0))/'E1_Données de projet'!$I$72 +'E1_Données de projet'!$D$74*(1+Eing_allg_Teuerung/100)^('E1_Données de projet'!$I$74*ROUNDDOWN((AS44-1)/'E1_Données de projet'!$I$69,0))/'E1_Données de projet'!$I$74 +'E1_Données de projet'!$D$75*(1+Eing_allg_Teuerung/100)^('E1_Données de projet'!$I$75*ROUNDDOWN((AS44-1)/'E1_Données de projet'!$I$75,0))/'E1_Données de projet'!$I$75 +'E1_Données de projet'!$D$76*(1+Eing_allg_Teuerung/100)^('E1_Données de projet'!$I$76*ROUNDDOWN((AS44-1)/'E1_Données de projet'!$I$76,0))/'E1_Données de projet'!$I$76 +'E1_Données de projet'!$D$77*(1+Eing_allg_Teuerung/100)^('E1_Données de projet'!$I$77*ROUNDDOWN((AS44-1)/'E1_Données de projet'!$I$77,0))/'E1_Données de projet'!$I$77 +'E1_Données de projet'!$D$78*(1+Eing_allg_Teuerung/100)^('E1_Données de projet'!$I$78*ROUNDDOWN((AS44-1)/'E1_Données de projet'!$I$78,0))/'E1_Données de projet'!$I$78 +'E1_Données de projet'!$D$80*(1+Eing_allg_Teuerung/100)^('E1_Données de projet'!$I$80*ROUNDDOWN((AS44-1)/'E1_Données de projet'!$I$69,0))/'E1_Données de projet'!$I$80 )*((AS44)>0)*VLOOKUP(B44,'E1_Données de projet'!$D$83:$I$87,6 )/100 -> 0 | AN44: =SUM(AH44,AM44) -> 40870 | AO44: =SUM(T44,-AN44) -> -40870 | AP44: =AO44 -> -40870 | AQ44: {=IF(AS44-1<=0,0, (Eing_Kosten_Bau*(MOD((AS44-1),Eing_Nutzungsdauer_Bau)=0) +Eing_Invest_HolzAnlage*(MOD((AS44-1),Eing_Nutzungsdauer_Holz)=0) +Eing_Invest_WKKAnlage*(MOD((AS44-1),Eing_Nutzungsdauer_WKK)=0) +Eing_Invest_WPAnlage*(MOD((AS44-1),Eing_Nutzungsdauer_WP)=0) +Eing_Invest_SondenGrundwasser*(MOD((AS44-1),Eing_Nutzungsdauer_SondenGW)=0) +Eing_Invest_AWN*(MOD((AS44-1),Eing_Nutzungsdauer_AWN)=0) +Eing_Invest_Spitzenlast*(MOD((AS44-1),Eing_Nutzungsdauer_Spitzenlast)=0) +Eing_Invest_Installationen*(MOD((AS44-1),Eing_Nutzungsdauer_Installationen)=0) +Eing_Invest_Wärmenetz*(MOD((AS44-1),Eing_Nutzungsdauer_Netz)=0) +Eing_Invest_Messung*(MOD((AS44-1),Eing_Nutzungsdauer_Messung)=0))*(1+Eing_allg_Teuerung/100)^(AS44-1)) +(Gesamtinvestition-SUM('E1_Données de projet'!$D$79:$D$80))*SUMPRODUCT(('E1_Données de projet'!$D$83:$D$87=B44)*'E1_Données de projet'!$F$83:$F$87)/100-AM44} -> 723000 | AR44: =-SUM(AX44,BB44) -> -418000 | AS44: =MAX(B1_Calculs!B44-'E1_Données de projet'!$D$23,0) -> 0 | AT44: =Eing_Eigenkapital-B1_Calculs!I44 -> 0 | AU44: =(Eing_Kredit_1*(B44=Eing_Kreditstartjahr_1)) -> 0 | AV44: =IF((SUM(H$44:H44)-SUM(I$44:I44))<=AU44,MAX((SUM(H$44:H44)-SUM(I$44:I44)),0),AU44) -> 0 | AW44: =IF(Eing_Kreditlaufzeit_1=0,0,(IF(Eing_Kreditlaufzeit_1<>0,(Eing_Kredit_1/(Eing_Kreditlaufzeit_1+Eing_Kreditstartjahr_1-Eing_StartAmortisation_Kredit1))*(Eing_Kreditlaufzeit_1>B44-Eing_Kreditstartjahr_1)*(B44>=Eing_StartAmortisation_Kredit1)))) -> 0 | AX44: =AV44-AW44 -> 0 | AY44: =(Eing_Kredit_2*(B44=Eing_Kreditstartjahr_2)) -> 500000 | AZ44: =IF((SUM(H$44:H44)-SUM(I$44:I44)-AV44)<=AY44,MAX((SUM(H$44:H44)-SUM(I$44:I44)-AV44),0),AY44) -> 418000 | BA44: =IF(Eing_Kreditlaufzeit_2=0,0,(IF(Eing_Kreditlaufzeit_2<>0,(Eing_Kredit_2/(Eing_Kreditlaufzeit_2+Eing_Kreditstartjahr_2-Eing_StartAmortisation_Kredit2))*(Eing_Kreditlaufzeit_2>B44-Eing_Kreditstartjahr_2)*(B44>=Eing_StartAmortisation_Kredit2)))) -> 0 | BB44: =AZ44-BA44 -> 418000 | BC44: =SUM(-H44,AK44,AQ44) -> -235870 | BD44: =SUM(-H44,AK44) -> -958870
B45: =B44+1 -> 2025 | C45: {=(SUMPRODUCT((E3_Consommateurs!$D$21:$XFD$21<B1_Calculs!B45)*E3_Consommateurs!$D$18:$XFD$18)+SUMPRODUCT((E3_Consommateurs!$D$21:$XFD$21=B1_Calculs!B45)*E3_Consommateurs!$D$18:$XFD$18*E3_Consommateurs!$D$20:$XFD$20))/(100-Eing_Netzverluste)*100*(1-Eing_AbnW/100)^(B1_Calculs!B45-Eing_Beginnjahr)} -> 429 | D45: =IF(mittl_Erzeugte_Wärmemenge=0,0,C45/mittl_Erzeugte_Wärmemenge*100) -> 20.973584 | E45: {=IF(AS45=0,0, (Eing_Kosten_Bau*(MOD((AS45),Eing_Nutzungsdauer_Bau)=0) +Eing_Invest_HolzAnlage*(MOD((AS45),Eing_Nutzungsdauer_Holz)=0) +Eing_Invest_WKKAnlage*(MOD((AS45),Eing_Nutzungsdauer_WKK)=0) +Eing_Invest_WPAnlage*(MOD((AS45),Eing_Nutzungsdauer_WP)=0) +Eing_Invest_SondenGrundwasser*(MOD((AS45),Eing_Nutzungsdauer_SondenGW)=0) +Eing_Invest_Zusatz*(MOD((AS45),Eing_Nutzungsdauer_Zusatz)=0) +Eing_Invest_AWN*(MOD((AS45),Eing_Nutzungsdauer_AWN)=0) +Eing_Invest_Spitzenlast*(MOD((AS45),Eing_Nutzungsdauer_Spitzenlast)=0) +Eing_Invest_Installationen*(MOD((AS45),Eing_Nutzungsdauer_Installationen)=0) +Eing_Invest_Wärmenetz*(MOD((AS45),Eing_Nutzungsdauer_Netz)=0) +Eing_Invest_Messung*(MOD((AS45),Eing_Nutzungsdauer_Messung)=0))*(1+Eing_allg_Teuerung/100)^(AS45)) +Gesamtinvestition*SUMPRODUCT(('E1_Données de projet'!$D$83:$D$87=B45)*'E1_Données de projet'!$F$83:$F$87)/100} -> 1224000 | F45: =-SUM(Einmaliger_Förderbeitrag_1*(B45=Förderungsauszahlung_1),Einmaliger_Förderbeitrag_2*(B45=Förderungsauszahlung_2),Einmaliger_Förderbeitrag_3*(B45=Förderungsauszahlung_3)) -> 0 | G45: {=-SUMPRODUCT((E3_Consommateurs!$D$21:$XFD$21=B1_Calculs!B45)*E3_Consommateurs!$D$23:$XFD$23)} -> -362000 | H45: =SUM(E45:G45) -> 862000 | I45: =IF(H45<=0,0,MIN(AT44,H45)) -> 0 | J45: =AV45+AZ45 -> 932000 | K45: =K44-H45+SUM(I45:J45) -> 70000 | L45: =AL45 -> -128383.83 | M45: =IF(ISNUMBER(IRR((BD$44:BD44,BC45))),IRR((BD$44:BD44,BC45)),"-") -> -0.23087992 | N45: {=SUM((SUMPRODUCT((E3_Consommateurs!$D$21:$XFD$21<B1_Calculs!B45)*E3_Consommateurs!$D$26:$XFD$26)+SUMPRODUCT((E3_Consommateurs!$D$21:$XFD$21=B1_Calculs!B45)*E3_Consommateurs!$D$26:$XFD$26*E3_Consommateurs!$D$20:$XFD$20))*(1+$G$30)^(B45-B$44),(SUMPRODUCT((E3_Consommateurs!$D$21:$XFD$21<B1_Calculs!B45)*E3_Consommateurs!$D$27:$XFD$27)+SUMPRODUCT((E3_Consommateurs!$D$21:$XFD$21=B1_Calculs!B45)*E3_Consommateurs!$D$27:$XFD$27*E3_Consommateurs!$D$20:$XFD$20))*((1+$G$30)*(1-'E1_Données de projet'!$D$20/100))^(B45-B$44))} -> 60064.7 | O45: =-$F$28*D45/100*((1+$G$28)^(B45-$B$44)) -> 0 | P45: =-$F$29*D45/100*((1+$G$29)^(B45-$B$44)) -> 0 | Q45: =SUM(Eing_jährlicher_Förderbeitrag_1*((B45-Eing_Erstauszahlung_jährlFörderung_1)<=(Eing_Förderung_wiederholend_Laufzeit_1-1))*(B45>=Eing_Erstauszahlung_jährlFörderung_1),Eing_jährlicher_Förderbeitrag_2*((B45-Eing_Erstauszahlung_jährlFörderung_2)<=(Eing_Förderung_wiederholend_Laufzeit_2-1))*(B45>=Eing_Erstauszahlung_jährlFörderung_2)) -> 0 | T45: =IF(S45,S45,SUM(N45:R45)) -> 60064.7 | U45: =Energiekosten_Holzschnitzel*D45/100*((1+$G$16)^(B45-$B$44)) -> 17396.593 | V45: =Energiekosten_WKK*D45/100*((1+$G$17)^(B45-$B$44)) -> 0 | W45: =Energiekosten_Zusatz*D45/100*((1+$G$18)^(B45-$B$44)) -> 0 | X45: =Energiekosten_AWN*D45/100*((1+$G$19)^(B45-$B$44)) -> 0 | Y45: =Energiekosten_fossil*D45/100*(1+$G$20)^(B45-$B$44) -> 0 | Z45: =Stromkosten_WP*D45/100*((1+$G$21)^(B45-$B$44)) -> 5701.1842 | AA45: =Stromkosten_Hilfsenergie*D45/100*((1+$G$21)^(B45-$B$44)) -> 2166.45 | AB45: =($F$22*(1+$G$22)^(B45-B$44)+$F$23*(1+$G$23)^(B45-B$44))*(B45>=Eing_JahrBegWLief)*VLOOKUP(B45,'E1_Données de projet'!$D$83:$I$87,6)/100 -> 22411.9 | AC45: =$F$24*(1+$G$24)^(B45-B$44)*(B45>=Eing_JahrBegWLief)*VLOOKUP(B45,'E1_Données de projet'!$D$83:$I$87,6)/100 -> 31956.4 | AD45: =Eing_Kosten_Grundstück*(1+$G$25)^(B45-B$44)+Eing_Sonstige_Kosten*(1+$G$26)^(B45-B$44) -> 34946 | AG45: =SUM(AX45*Eing_Kreditzinssatz_1/100,BB45*Eing_Kreditzinssatz_2/100) -> 33000 | AH45: =IF(AF45,SUM(AF45:AG45),SUM(U45:AG45)) -> 147578.53 | AI45: =SUM(AW45,BA45) -> 0 | AJ45: =SUM(AH45,AI45) -> 147578.53 | AK45: =SUM(-AJ45,T45) -> -87513.828 | AL45: =AL44+AK45 -> -128383.83 | AM45: =('E1_Données de projet'!$D$68*(1+Eing_allg_Teuerung/100)^('E1_Données de projet'!$I$68*ROUNDDOWN((AS45-1)/'E1_Données de projet'!$I$68,0))/'E1_Données de projet'!$I$68 +'E1_Données de projet'!$D$69*(1+Eing_allg_Teuerung/100)^('E1_Données de projet'!$I$69*ROUNDDOWN((AS45-1)/'E1_Données de projet'!$I$69,0))/'E1_Données de projet'!$I$69 +'E1_Données de projet'!$D$70*(1+Eing_allg_Teuerung/100)^('E1_Données de projet'!$I$70*ROUNDDOWN((AS45-1)/'E1_Données de projet'!$I$69,0))/'E1_Données de projet'!$I$70 +'E1_Données de projet'!$D$71*(1+Eing_allg_Teuerung/100)^('E1_Données de projet'!$I$71*ROUNDDOWN((AS45-1)/'E1_Données de projet'!$I$69,0))/'E1_Données de projet'!$I$71 +'E1_Données de projet'!$D$72*(1+Eing_allg_Teuerung/100)^('E1_Données de projet'!$I$72*ROUNDDOWN((AS45-1)/'E1_Données de projet'!$I$69,0))/'E1_Données de projet'!$I$72 +'E1_Données de projet'!$D$74*(1+Eing_allg_Teuerung/100)^('E1_Données de projet'!$I$74*ROUNDDOWN((AS45-1)/'E1_Données de projet'!$I$69,0))/'E1_Données de projet'!$I$74 +'E1_Données de projet'!$D$75*(1+Eing_allg_Teuerung/100)^('E1_Données de projet'!$I$75*ROUNDDOWN((AS45-1)/'E1_Données de projet'!$I$75,0))/'E1_Données de projet'!$I$75 +'E1_Données de projet'!$D$76*(1+Eing_allg_Teuerung/100)^('E1_Données de projet'!$I$76*ROUNDDOWN((AS45-1)/'E1_Données de projet'!$I$76,0))/'E1_Données de projet'!$I$76 +'E1_Données de projet'!$D$77*(1+Eing_allg_Teuerung/100)^('E1_Données de projet'!$I$77*ROUNDDOWN((AS45-1)/'E1_Données de projet'!$I$77,0))/'E1_Données de projet'!$I$77 +'E1_Données de projet'!$D$78*(1+Eing_allg_Teuerung/100)^('E1_Données de projet'!$I$78*ROUNDDOWN((AS45-1)/'E1_Données de projet'!$I$78,0))/'E1_Données de projet'!$I$78 +'E1_Données de projet'!$D$80*(1+Eing_allg_Teuerung/100)^('E1_Données de projet'!$I$80*ROUNDDOWN((AS45-1)/'E1_Données de projet'!$I$69,0))/'E1_Données de projet'!$I$80 )*((AS45)>0)*VLOOKUP(B45,'E1_Données de projet'!$D$83:$I$87,6 )/100 -> 0 | AN45: =SUM(AH45,AM45) -> 147578.53 | AO45: =SUM(T45,-AN45) -> -87513.828 | AP45: =AP44+AO45 -> -128383.83 | AQ45: {=IF(AS45-1<=0,0, (Eing_Kosten_Bau*(MOD((AS45-1),Eing_Nutzungsdauer_Bau)=0) +Eing_Invest_HolzAnlage*(MOD((AS45-1),Eing_Nutzungsdauer_Holz)=0) +Eing_Invest_WKKAnlage*(MOD((AS45-1),Eing_Nutzungsdauer_WKK)=0) +Eing_Invest_WPAnlage*(MOD((AS45-1),Eing_Nutzungsdauer_WP)=0) +Eing_Invest_SondenGrundwasser*(MOD((AS45-1),Eing_Nutzungsdauer_SondenGW)=0) +Eing_Invest_AWN*(MOD((AS45-1),Eing_Nutzungsdauer_AWN)=0) +Eing_Invest_Spitzenlast*(MOD((AS45-1),Eing_Nutzungsdauer_Spitzenlast)=0) +Eing_Invest_Installationen*(MOD((AS45-1),Eing_Nutzungsdauer_Installationen)=0) +Eing_Invest_Wärmenetz*(MOD((AS45-1),Eing_Nutzungsdauer_Netz)=0) +Eing_Invest_Messung*(MOD((AS45-1),Eing_Nutzungsdauer_Messung)=0))*(1+Eing_allg_Teuerung/100)^(AS45-1)) +(Gesamtinvestition-SUM('E1_Données de projet'!$D$79:$D$80))*SUMPRODUCT(('E1_Données de projet'!$D$83:$D$87=B45)*'E1_Données de projet'!$F$83:$F$87)/100-AM45 +AQ44} -> 1687000 | AR45: =-SUM(AX45,BB45) -> -1350000 | AS45: =MAX(B1_Calculs!B45-'E1_Données de projet'!$D$23,0) -> 0 | AT45: =AT44-B1_Calculs!I45 -> 0 | AU45: =AU44-AV44+(Eing_Kredit_1*(B45=Eing_Kreditstartjahr_1)) -> 850000 | AV45: =IF((SUM(H$44:H45)-SUM(I$44:I45))<=AU45,MAX((SUM(H$44:H45)-SUM(I$44:I45)),0),AU45) -> 850000 | AW45: =IF(Eing_Kreditlaufzeit_1=0,0,(IF(Eing_Kreditlaufzeit_1<>0,(Eing_Kredit_1/(Eing_Kreditlaufzeit_1+Eing_Kreditstartjahr_1-Eing_StartAmortisation_Kredit1))*(Eing_Kreditlaufzeit_1>B45-Eing_Kreditstartjahr_1)*(B45>=Eing_StartAmortisation_Kredit1)))) -> 0 | AX45: =AX44+AV45-AW45 -> 850000 | AY45: =AY44-AZ44+(Eing_Kredit_2*(B45=Eing_Kreditstartjahr_2)) -> 82000 | AZ45: =IF((SUM(H$44:H45)-SUM(I$44:I45)-AV45)<=AY45,MAX((SUM(H$44:H45)-SUM(I$44:I45)-AV45),0),AY45) -> 82000 | BA45: =IF(Eing_Kreditlaufzeit_2=0,0,(IF(Eing_Kreditlaufzeit_2<>0,(Eing_Kredit_2/(Eing_Kreditlaufzeit_2+Eing_Kreditstartjahr_2-Eing_StartAmortisation_Kredit2))*(Eing_Kreditlaufzeit_2>B45-Eing_Kreditstartjahr_2)*(B45>=Eing_StartAmortisation_Kredit2)))) -> 0 | BB45: =BB44+AZ45-BA45 -> 500000 | BC45: =SUM(-H45,AK45,AQ45) -> 737486.17 | BD45: =SUM(-H45,AK45) -> -949513.83
